BEGIN:VCALENDAR
VERSION:2.0
PRODID:-//Bauman's Farm &amp; Garden - ECPv6.15.20//NONSGML v1.0//EN
CALSCALE:GREGORIAN
METHOD:PUBLISH
X-WR-CALNAME:Bauman's Farm &amp; Garden
X-ORIGINAL-URL:https://baumanfarms.com
X-WR-CALDESC:Events for Bauman's Farm &amp; Garden
REFRESH-INTERVAL;VALUE=DURATION:PT1H
X-Robots-Tag:noindex
X-PUBLISHED-TTL:PT1H
BEGIN:VTIMEZONE
TZID:America/Los_Angeles
BEGIN:DAYLIGHT
TZOFFSETFROM:-0800
TZOFFSETTO:-0700
TZNAME:PDT
DTSTART:20230312T100000
END:DAYLIGHT
BEGIN:STANDARD
TZOFFSETFROM:-0700
TZOFFSETTO:-0800
TZNAME:PST
DTSTART:20231105T090000
END:STANDARD
BEGIN:DAYLIGHT
TZOFFSETFROM:-0800
TZOFFSETTO:-0700
TZNAME:PDT
DTSTART:20240310T100000
END:DAYLIGHT
BEGIN:STANDARD
TZOFFSETFROM:-0700
TZOFFSETTO:-0800
TZNAME:PST
DTSTART:20241103T090000
END:STANDARD
BEGIN:DAYLIGHT
TZOFFSETFROM:-0800
TZOFFSETTO:-0700
TZNAME:PDT
DTSTART:20250309T100000
END:DAYLIGHT
BEGIN:STANDARD
TZOFFSETFROM:-0700
TZOFFSETTO:-0800
TZNAME:PST
DTSTART:20251102T090000
END:STANDARD
END:VTIMEZONE
BEGIN:VEVENT
DTSTART;TZID=America/Los_Angeles:20240713T110000
DTEND;TZID=America/Los_Angeles:20240713T150000
DTSTAMP:20260425T080558
CREATED:20240622T171056Z
LAST-MODIFIED:20240622T171416Z
UID:10000262-1720868400-1720882800@baumanfarms.com
SUMMARY:Bauman Backyard BBQ
DESCRIPTION:Saturday Backyard BBQs are back! 11 AM-3 PM\nThe grain bin will be open with food\, cider\, beer\, specialty drinks\, and extra goodies. Yard games and seating will be available for you to use as well. \nWhile you’re here\, also check out the animal barn where you and your kids are welcome to feed the animals. The goats loooove getting to eat out of your hands\, and the sheep are quite talkative with visitors. Charlie the pig also likes to say “hello” to everyone! \nThe playground area is also a great option for the kids! We have swings\, slides\, a tire tower\, bikes…lots of fun. Both the animal barn and the playground are open 9 AM-4:30 PM. \nOur main store\, bakery\, deli\, and garden areas are open 9 AM-5 PM\, so you can make a whole day of it here at Bauman’s! \nWe are so excited to spend our Saturdays with everyone in the Backyard enjoying a summer BBQ. \nCheck the discussion posts on Facebook for what meals we’re making each Saturday. Any updates/specials will be posted in the corresponding week’s feed on Facebook. https://www.facebook.com/share/sUkQLhJXNakvzkVw/ \nSee you soon!
URL:https://baumanfarms.com/event/backyard-bbq/2024-07-13/
LOCATION:OR
ATTACH;FMTTYPE=image/jpeg:https://baumanfarms.com/wp-content/uploads/2024/06/backyard-bbq-1.jpg
ORGANIZER;CN="Brian Bauman":MAILTO:brian@baumanfarms.com
END:VEVENT
BEGIN:VEVENT
DTSTART;TZID=America/Los_Angeles:20240720T110000
DTEND;TZID=America/Los_Angeles:20240720T150000
DTSTAMP:20260425T080558
CREATED:20240622T171056Z
LAST-MODIFIED:20240622T171416Z
UID:10000263-1721473200-1721487600@baumanfarms.com
SUMMARY:Bauman Backyard BBQ
DESCRIPTION:Saturday Backyard BBQs are back! 11 AM-3 PM\nThe grain bin will be open with food\, cider\, beer\, specialty drinks\, and extra goodies. Yard games and seating will be available for you to use as well. \nWhile you’re here\, also check out the animal barn where you and your kids are welcome to feed the animals. The goats loooove getting to eat out of your hands\, and the sheep are quite talkative with visitors. Charlie the pig also likes to say “hello” to everyone! \nThe playground area is also a great option for the kids! We have swings\, slides\, a tire tower\, bikes…lots of fun. Both the animal barn and the playground are open 9 AM-4:30 PM. \nOur main store\, bakery\, deli\, and garden areas are open 9 AM-5 PM\, so you can make a whole day of it here at Bauman’s! \nWe are so excited to spend our Saturdays with everyone in the Backyard enjoying a summer BBQ. \nCheck the discussion posts on Facebook for what meals we’re making each Saturday. Any updates/specials will be posted in the corresponding week’s feed on Facebook. https://www.facebook.com/share/sUkQLhJXNakvzkVw/ \nSee you soon!
URL:https://baumanfarms.com/event/backyard-bbq/2024-07-20/
LOCATION:OR
ATTACH;FMTTYPE=image/jpeg:https://baumanfarms.com/wp-content/uploads/2024/06/backyard-bbq-1.jpg
ORGANIZER;CN="Brian Bauman":MAILTO:brian@baumanfarms.com
END:VEVENT
BEGIN:VEVENT
DTSTART;TZID=America/Los_Angeles:20240727T110000
DTEND;TZID=America/Los_Angeles:20240727T150000
DTSTAMP:20260425T080558
CREATED:20240622T171056Z
LAST-MODIFIED:20240622T171416Z
UID:10000264-1722078000-1722092400@baumanfarms.com
SUMMARY:Bauman Backyard BBQ
DESCRIPTION:Saturday Backyard BBQs are back! 11 AM-3 PM\nThe grain bin will be open with food\, cider\, beer\, specialty drinks\, and extra goodies. Yard games and seating will be available for you to use as well. \nWhile you’re here\, also check out the animal barn where you and your kids are welcome to feed the animals. The goats loooove getting to eat out of your hands\, and the sheep are quite talkative with visitors. Charlie the pig also likes to say “hello” to everyone! \nThe playground area is also a great option for the kids! We have swings\, slides\, a tire tower\, bikes…lots of fun. Both the animal barn and the playground are open 9 AM-4:30 PM. \nOur main store\, bakery\, deli\, and garden areas are open 9 AM-5 PM\, so you can make a whole day of it here at Bauman’s! \nWe are so excited to spend our Saturdays with everyone in the Backyard enjoying a summer BBQ. \nCheck the discussion posts on Facebook for what meals we’re making each Saturday. Any updates/specials will be posted in the corresponding week’s feed on Facebook. https://www.facebook.com/share/sUkQLhJXNakvzkVw/ \nSee you soon!
URL:https://baumanfarms.com/event/backyard-bbq/2024-07-27/
LOCATION:OR
ATTACH;FMTTYPE=image/jpeg:https://baumanfarms.com/wp-content/uploads/2024/06/backyard-bbq-1.jpg
ORGANIZER;CN="Brian Bauman":MAILTO:brian@baumanfarms.com
END:VEVENT
BEGIN:VEVENT
DTSTART;TZID=America/Los_Angeles:20240803T110000
DTEND;TZID=America/Los_Angeles:20240803T150000
DTSTAMP:20260425T080558
CREATED:20240622T171056Z
LAST-MODIFIED:20240622T171416Z
UID:10000265-1722682800-1722697200@baumanfarms.com
SUMMARY:Bauman Backyard BBQ
DESCRIPTION:Saturday Backyard BBQs are back! 11 AM-3 PM\nThe grain bin will be open with food\, cider\, beer\, specialty drinks\, and extra goodies. Yard games and seating will be available for you to use as well. \nWhile you’re here\, also check out the animal barn where you and your kids are welcome to feed the animals. The goats loooove getting to eat out of your hands\, and the sheep are quite talkative with visitors. Charlie the pig also likes to say “hello” to everyone! \nThe playground area is also a great option for the kids! We have swings\, slides\, a tire tower\, bikes…lots of fun. Both the animal barn and the playground are open 9 AM-4:30 PM. \nOur main store\, bakery\, deli\, and garden areas are open 9 AM-5 PM\, so you can make a whole day of it here at Bauman’s! \nWe are so excited to spend our Saturdays with everyone in the Backyard enjoying a summer BBQ. \nCheck the discussion posts on Facebook for what meals we’re making each Saturday. Any updates/specials will be posted in the corresponding week’s feed on Facebook. https://www.facebook.com/share/sUkQLhJXNakvzkVw/ \nSee you soon!
URL:https://baumanfarms.com/event/backyard-bbq/2024-08-03/
LOCATION:OR
ATTACH;FMTTYPE=image/jpeg:https://baumanfarms.com/wp-content/uploads/2024/06/backyard-bbq-1.jpg
ORGANIZER;CN="Brian Bauman":MAILTO:brian@baumanfarms.com
END:VEVENT
BEGIN:VEVENT
DTSTART;TZID=America/Los_Angeles:20240806T110000
DTEND;TZID=America/Los_Angeles:20240806T120000
DTSTAMP:20260425T080558
CREATED:20240712T221608Z
LAST-MODIFIED:20240712T221608Z
UID:10000270-1722942000-1722945600@baumanfarms.com
SUMMARY:Dig\, Plant\, Water\, Repeat Class
DESCRIPTION:Janey is coming back to Bauman’s and hosting a talk with Brian.\n\nGet ready for new and never-before-seen plants from Proven Winners. We’ve been growing new intros for 2025\, and you’ll have the opportunity to purchase a select few of them early!\nAttendees will have a chance to win some giveaway items as well.\n\nRSVP one of the following ways:\n\nSend us a message on Facebook or Instagram with the number of people in your party\, along with a phone number.\nCall us at (503) 792-3524.\nSign up at the store register.
URL:https://baumanfarms.com/event/dig-plant-water-repeat-class/
LOCATION:OR
ATTACH;FMTTYPE=image/jpeg:https://baumanfarms.com/wp-content/uploads/2024/07/dig-plant-water-repeat-class.jpg
ORGANIZER;CN="Brian Bauman":MAILTO:brian@baumanfarms.com
END:VEVENT
BEGIN:VEVENT
DTSTART;TZID=America/Los_Angeles:20240810T110000
DTEND;TZID=America/Los_Angeles:20240810T150000
DTSTAMP:20260425T080558
CREATED:20240622T171056Z
LAST-MODIFIED:20240622T171416Z
UID:10000266-1723287600-1723302000@baumanfarms.com
SUMMARY:Bauman Backyard BBQ
DESCRIPTION:Saturday Backyard BBQs are back! 11 AM-3 PM\nThe grain bin will be open with food\, cider\, beer\, specialty drinks\, and extra goodies. Yard games and seating will be available for you to use as well. \nWhile you’re here\, also check out the animal barn where you and your kids are welcome to feed the animals. The goats loooove getting to eat out of your hands\, and the sheep are quite talkative with visitors. Charlie the pig also likes to say “hello” to everyone! \nThe playground area is also a great option for the kids! We have swings\, slides\, a tire tower\, bikes…lots of fun. Both the animal barn and the playground are open 9 AM-4:30 PM. \nOur main store\, bakery\, deli\, and garden areas are open 9 AM-5 PM\, so you can make a whole day of it here at Bauman’s! \nWe are so excited to spend our Saturdays with everyone in the Backyard enjoying a summer BBQ. \nCheck the discussion posts on Facebook for what meals we’re making each Saturday. Any updates/specials will be posted in the corresponding week’s feed on Facebook. https://www.facebook.com/share/sUkQLhJXNakvzkVw/ \nSee you soon!
URL:https://baumanfarms.com/event/backyard-bbq/2024-08-10/
LOCATION:OR
ATTACH;FMTTYPE=image/jpeg:https://baumanfarms.com/wp-content/uploads/2024/06/backyard-bbq-1.jpg
ORGANIZER;CN="Brian Bauman":MAILTO:brian@baumanfarms.com
END:VEVENT
BEGIN:VEVENT
DTSTART;TZID=America/Los_Angeles:20240817T110000
DTEND;TZID=America/Los_Angeles:20240817T150000
DTSTAMP:20260425T080558
CREATED:20240622T171056Z
LAST-MODIFIED:20240622T171416Z
UID:10000267-1723892400-1723906800@baumanfarms.com
SUMMARY:Bauman Backyard BBQ
DESCRIPTION:Saturday Backyard BBQs are back! 11 AM-3 PM\nThe grain bin will be open with food\, cider\, beer\, specialty drinks\, and extra goodies. Yard games and seating will be available for you to use as well. \nWhile you’re here\, also check out the animal barn where you and your kids are welcome to feed the animals. The goats loooove getting to eat out of your hands\, and the sheep are quite talkative with visitors. Charlie the pig also likes to say “hello” to everyone! \nThe playground area is also a great option for the kids! We have swings\, slides\, a tire tower\, bikes…lots of fun. Both the animal barn and the playground are open 9 AM-4:30 PM. \nOur main store\, bakery\, deli\, and garden areas are open 9 AM-5 PM\, so you can make a whole day of it here at Bauman’s! \nWe are so excited to spend our Saturdays with everyone in the Backyard enjoying a summer BBQ. \nCheck the discussion posts on Facebook for what meals we’re making each Saturday. Any updates/specials will be posted in the corresponding week’s feed on Facebook. https://www.facebook.com/share/sUkQLhJXNakvzkVw/ \nSee you soon!
URL:https://baumanfarms.com/event/backyard-bbq/2024-08-17/
LOCATION:OR
ATTACH;FMTTYPE=image/jpeg:https://baumanfarms.com/wp-content/uploads/2024/06/backyard-bbq-1.jpg
ORGANIZER;CN="Brian Bauman":MAILTO:brian@baumanfarms.com
END:VEVENT
END:VCALENDAR