BEGIN:VCALENDAR
VERSION:2.0
PRODID:-//Bauman's Farm &amp; Garden - ECPv6.15.20//NONSGML v1.0//EN
CALSCALE:GREGORIAN
METHOD:PUBLISH
X-WR-CALNAME:Bauman's Farm &amp; Garden
X-ORIGINAL-URL:https://baumanfarms.com
X-WR-CALDESC:Events for Bauman's Farm &amp; Garden
REFRESH-INTERVAL;VALUE=DURATION:PT1H
X-Robots-Tag:noindex
X-PUBLISHED-TTL:PT1H
BEGIN:VTIMEZONE
TZID:America/Los_Angeles
BEGIN:DAYLIGHT
TZOFFSETFROM:-0800
TZOFFSETTO:-0700
TZNAME:PDT
DTSTART:20240310T100000
END:DAYLIGHT
BEGIN:STANDARD
TZOFFSETFROM:-0700
TZOFFSETTO:-0800
TZNAME:PST
DTSTART:20241103T090000
END:STANDARD
BEGIN:DAYLIGHT
TZOFFSETFROM:-0800
TZOFFSETTO:-0700
TZNAME:PDT
DTSTART:20250309T100000
END:DAYLIGHT
BEGIN:STANDARD
TZOFFSETFROM:-0700
TZOFFSETTO:-0800
TZNAME:PST
DTSTART:20251102T090000
END:STANDARD
BEGIN:DAYLIGHT
TZOFFSETFROM:-0800
TZOFFSETTO:-0700
TZNAME:PDT
DTSTART:20260308T100000
END:DAYLIGHT
BEGIN:STANDARD
TZOFFSETFROM:-0700
TZOFFSETTO:-0800
TZNAME:PST
DTSTART:20261101T090000
END:STANDARD
END:VTIMEZONE
BEGIN:VEVENT
DTSTART;TZID=America/Los_Angeles:20250315T110000
DTEND;TZID=America/Los_Angeles:20250315T120000
DTSTAMP:20260421T045156
CREATED:20250306T185702Z
LAST-MODIFIED:20250312T235112Z
UID:10000286-1742036400-1742040000@baumanfarms.com
SUMMARY:Magnolia Tree Class
DESCRIPTION:FREE for anyone who wants to attend! \nMagnolia Trees are stunning bloomers\, and there’s a lot of great information you should know about them. \nJoin us for a class where you can also ask all your questions and have them answered by our tree experts. \nCall to RSVP: (503) 792-3524
URL:https://baumanfarms.com/event/magnolia-tree-class/
CATEGORIES:Free Classes
ATTACH;FMTTYPE=image/jpeg:https://baumanfarms.com/wp-content/uploads/2025/03/magnolia-tree-class.jpg
ORGANIZER;CN="Brian Bauman":MAILTO:brian@baumanfarms.com
END:VEVENT
BEGIN:VEVENT
DTSTART;TZID=America/Los_Angeles:20250322T110000
DTEND;TZID=America/Los_Angeles:20250322T120000
DTSTAMP:20260421T045156
CREATED:20250306T190933Z
LAST-MODIFIED:20250312T222415Z
UID:10000287-1742641200-1742644800@baumanfarms.com
SUMMARY:Bailey Nurseries & Monrovia Class
DESCRIPTION:Hydrangeas & Companion Plants \nWe’re back with another free class on hydrangeas! Bailey Nurseries will be leading the class where you’ll learn more than you thought you’d need to know about hydrangeas. You’ll also have the chance at first dibs of their new smooth hydrangea\, ‘FlowerFull’. Monrovia will join in with their companion plant suggestions. \nIt’s kicking off our spring open house\, and you don’t want to miss it. Last year’s class was a big hit\, and it filled up fast. Call us to RSVP at (503) 792-3524 so we know how many people to expect.
URL:https://baumanfarms.com/event/monrovia-hydrangeas-class/
CATEGORIES:Free Classes
ATTACH;FMTTYPE=image/jpeg:https://baumanfarms.com/wp-content/uploads/2025/03/bailey-nurseries-monrovia.jpg
ORGANIZER;CN="Brian Bauman":MAILTO:brian@baumanfarms.com
END:VEVENT
BEGIN:VEVENT
DTSTART;TZID=America/Los_Angeles:20250325T100000
DTEND;TZID=America/Los_Angeles:20250325T110000
DTSTAMP:20260421T045156
CREATED:20250306T191212Z
LAST-MODIFIED:20250312T222256Z
UID:10000288-1742896800-1742900400@baumanfarms.com
SUMMARY:Kids Seed Planting
DESCRIPTION:Cost: $10 \nIncludes a 10″ pot\, soil\, and a variety of seed options. \nKids get to choose their own seeds to plant and take home. Watch them grow this spring! \nThe class is limited to 20\, so call or visit us in store to sign up.
URL:https://baumanfarms.com/event/seed-planting/
CATEGORIES:Kids Activities
ORGANIZER;CN="Brian Bauman":MAILTO:brian@baumanfarms.com
END:VEVENT
END:VCALENDAR