BEGIN:VCALENDAR
VERSION:2.0
PRODID:-//Bauman's Farm &amp; Garden - ECPv6.15.20//NONSGML v1.0//EN
CALSCALE:GREGORIAN
METHOD:PUBLISH
X-WR-CALNAME:Bauman's Farm &amp; Garden
X-ORIGINAL-URL:https://baumanfarms.com
X-WR-CALDESC:Events for Bauman's Farm &amp; Garden
REFRESH-INTERVAL;VALUE=DURATION:PT1H
X-Robots-Tag:noindex
X-PUBLISHED-TTL:PT1H
BEGIN:VTIMEZONE
TZID:America/Phoenix
BEGIN:STANDARD
TZOFFSETFROM:-0700
TZOFFSETTO:-0700
TZNAME:MST
DTSTART:20250101T000000
END:STANDARD
END:VTIMEZONE
BEGIN:VTIMEZONE
TZID:America/Los_Angeles
BEGIN:DAYLIGHT
TZOFFSETFROM:-0800
TZOFFSETTO:-0700
TZNAME:PDT
DTSTART:20250309T100000
END:DAYLIGHT
BEGIN:STANDARD
TZOFFSETFROM:-0700
TZOFFSETTO:-0800
TZNAME:PST
DTSTART:20251102T090000
END:STANDARD
BEGIN:DAYLIGHT
TZOFFSETFROM:-0800
TZOFFSETTO:-0700
TZNAME:PDT
DTSTART:20260308T100000
END:DAYLIGHT
BEGIN:STANDARD
TZOFFSETFROM:-0700
TZOFFSETTO:-0800
TZNAME:PST
DTSTART:20261101T090000
END:STANDARD
BEGIN:DAYLIGHT
TZOFFSETFROM:-0800
TZOFFSETTO:-0700
TZNAME:PDT
DTSTART:20270314T100000
END:DAYLIGHT
BEGIN:STANDARD
TZOFFSETFROM:-0700
TZOFFSETTO:-0800
TZNAME:PST
DTSTART:20271107T090000
END:STANDARD
END:VTIMEZONE
BEGIN:VEVENT
DTSTART;TZID=America/Phoenix:20260117T110000
DTEND;TZID=America/Phoenix:20260117T120000
DTSTAMP:20260420T123334
CREATED:20250129T201650Z
LAST-MODIFIED:20260107T175237Z
UID:10000282-1768647600-1768651200@baumanfarms.com
SUMMARY:Terrarium Class
DESCRIPTION:$40 per person \nIncludes all materials\, but you are welcome to bring little figurines or elements to add. \nThe class is limited to 25 people\, so reserve your spot as soon as you can by calling: (503) 792-3524 \n 
URL:https://baumanfarms.com/event/terrarium-class/
ATTACH;FMTTYPE=image/jpeg:https://baumanfarms.com/wp-content/uploads/2025/01/terrarium-class-2026.jpg
ORGANIZER;CN="Office":MAILTO:office@baumanfarms.com
END:VEVENT
BEGIN:VEVENT
DTSTART;TZID=America/Los_Angeles:20260131T110000
DTEND;TZID=America/Los_Angeles:20260131T120000
DTSTAMP:20260420T123334
CREATED:20260121T223546Z
LAST-MODIFIED:20260121T223623Z
UID:10000300-1769857200-1769860800@baumanfarms.com
SUMMARY:Get Your Garden Ready for Spring Class
DESCRIPTION:We’re hosting a free class for the first 40 people who sign up! \nWhat can you do now for a flourishing garden in the spring? You can come to our class on this very subject for starters. \nLearn from our experts what they recommend doing in your garden to prepare it for springtime success\, like trimming hedges now\, fertilizing plants\, and preparing the soil\, etc. \nCall (503) 792-3524 to sign up today.
URL:https://baumanfarms.com/event/get-your-garden-ready-for-spring-class/
ATTACH;FMTTYPE=image/jpeg:https://baumanfarms.com/wp-content/uploads/2026/01/get-your-garden-ready-for-spring-2026.jpg
ORGANIZER;CN="Brian Bauman":MAILTO:brian@baumanfarms.com
END:VEVENT
BEGIN:VEVENT
DTSTART;TZID=America/Phoenix:20260207T110000
DTEND;TZID=America/Phoenix:20260207T120000
DTSTAMP:20260420T123334
CREATED:20240111T181410Z
LAST-MODIFIED:20260206T201357Z
UID:10000205-1770462000-1770465600@baumanfarms.com
SUMMARY:Custom Shade Hanging Basket Class
DESCRIPTION:Join us at this annual event where Brian and his garden center staff will present what’s new for 2026 and this year’s selection of SHADE basket flowering plants. Those attending will also have the opportunity to create their own custom baskets with the help of our staff and pick them up when they are ready later in the spring. \nStarts at 11 AM. Participation is free. \nCall (503) 792-3524 to RSVP.  \nClass will be livestreamed on our Facebook Page: Bauman’s Farm and Garden \nView plant photos pdf here! \n>>> ORDER YOUR CUSTOM SHADE BASKETS HERE!
URL:https://baumanfarms.com/event/shade-hanging-basket-class/
CATEGORIES:Free Classes
ATTACH;FMTTYPE=image/jpeg:https://baumanfarms.com/wp-content/uploads/2024/01/custom-shade-hanging-baskets-2026.jpg
ORGANIZER;CN="Brian Bauman":MAILTO:brian@baumanfarms.com
END:VEVENT
BEGIN:VEVENT
DTSTART;TZID=America/Los_Angeles:20260214T110000
DTEND;TZID=America/Los_Angeles:20260214T120000
DTSTAMP:20260420T123334
CREATED:20260121T223824Z
LAST-MODIFIED:20260121T223824Z
UID:10000301-1771066800-1771070400@baumanfarms.com
SUMMARY:Rose Care Class - Valentine's Day at Bauman's
DESCRIPTION:Roses are red\nViolets are blue\nFlowers are growing\nThis class is for you \nGet all the insider tips on caring for your roses: pruning\, planting bare-root\, fertilizing\, and pest management. We want you to be successful in your garden\, and we’d love to spend Valentine’s Day with you going over our favorite thing: plants (roses\, obviously). \nThis is a free class! Please let us know you’re coming so we have a seat ready just for you. \nYou can call (503) 792-3524 or sign up at the checkout counters.
URL:https://baumanfarms.com/event/rose-care-class-valentines-day-at-baumans/
ATTACH;FMTTYPE=image/png:https://baumanfarms.com/wp-content/uploads/2026/01/2026-Facebook-Events-17.png
ORGANIZER;CN="Brian Bauman":MAILTO:brian@baumanfarms.com
END:VEVENT
BEGIN:VEVENT
DTSTART;TZID=America/Phoenix:20260221T100000
DTEND;TZID=America/Phoenix:20260221T130000
DTSTAMP:20260420T123334
CREATED:20240111T181027Z
LAST-MODIFIED:20260220T185459Z
UID:10000204-1771668000-1771678800@baumanfarms.com
SUMMARY:Custom Sun Hanging Basket Class
DESCRIPTION:Join us at this coveted annual event where Brian and his garden center staff will present what’s new for 2026 and this year’s selection of SUN basket flowering plants. Those attending will also have the opportunity to create their own custom baskets with the help of our staff and pick them up when they are ready later in the spring. \nNote: These are informational classes. There is no actual hands-on planting of baskets by participants. \nThere are TWO classes…one at 10 AM and one at 1 PM. \nParticipation is free. \nCall (503) 792-3524 to RSVP.  \nLivestream time 10am on Facebook: https://www.facebook.com/baumansfarmandgarden. \n>>> Place your custom sun basket orders here!
URL:https://baumanfarms.com/event/sun-hanging-basket-class/
CATEGORIES:Free Classes
ATTACH;FMTTYPE=image/jpeg:https://baumanfarms.com/wp-content/uploads/2024/01/custom-sun-hanging-baskets-2026.jpg
ORGANIZER;CN="Brian Bauman":MAILTO:brian@baumanfarms.com
END:VEVENT
BEGIN:VEVENT
DTSTART;TZID=America/Phoenix:20260228T093000
DTEND;TZID=America/Phoenix:20260228T160000
DTSTAMP:20260420T123334
CREATED:20200213T101422Z
LAST-MODIFIED:20260214T200856Z
UID:10000054-1772271000-1772294400@baumanfarms.com
SUMMARY:Savory Sampling Day
DESCRIPTION:This is one of our most popular events\, and it’s FREE! \nSample all kinds of delicious products we have in the store. \nLocal vendors will be here showcasing their products and we will have a great selection of our own samples. \nSavory Sampling Day is definitely a day at the farm that you don’t want to miss! Remember\, spread the word and invite your friends to come along. We are looking forward to seeing you here! \nMark your calendars and come hungry!!! \nList of sales coming soon. \nVendors\nManny’s Choice – 11:30am-2:30pm \nRose City Pepperheads – 10:00am-3:00pm \nCorylus Farms – 10:00am-3:00pm \nSuDan Farms – 10:00am-3:00pm \nRomero’s Salsa – 10:00am-3:00pm \nHanna’s Honey – 10:00am-3:00pm
URL:https://baumanfarms.com/event/savory-sampling-day/
ATTACH;FMTTYPE=image/jpeg:https://baumanfarms.com/wp-content/uploads/2020/02/savory-sampling-day-2026.jpg
END:VEVENT
BEGIN:VEVENT
DTSTART;TZID=America/Los_Angeles:20260317T130000
DTEND;TZID=America/Los_Angeles:20260317T150000
DTSTAMP:20260420T123334
CREATED:20260224T221459Z
LAST-MODIFIED:20260224T221459Z
UID:10000302-1773752400-1773759600@baumanfarms.com
SUMMARY:St Patrick's Day Tea
DESCRIPTION:It’s your lucky day; Tea Time is back at Bauman’s for St. Patrick’s Day! 🍀\nOn March 17th\, you and your friends can spend the afternoon with us sipping tea\, munching on sweet treats\, and enjoying the ambiance of the farm and all things green. \nSpace is limited\, so get your tickets today so reserve your seats. \nDressing up is not required but always encouraged. Remember to wear green and have fun! \n$35/person \n>>> BUY TICKETS NOW! \n*Tickets are non-refundable and are only good for the date purchased.
URL:https://baumanfarms.com/event/st-patricks-day-tea/
ATTACH;FMTTYPE=image/jpeg:https://baumanfarms.com/wp-content/uploads/2023/02/tea-time.jpg
ORGANIZER;CN="Brian Bauman":MAILTO:brian@baumanfarms.com
END:VEVENT
END:VCALENDAR