BEGIN:VCALENDAR
VERSION:2.0
PRODID:-//Bauman's Farm &amp; Garden - ECPv6.15.20//NONSGML v1.0//EN
CALSCALE:GREGORIAN
METHOD:PUBLISH
X-ORIGINAL-URL:https://baumanfarms.com
X-WR-CALDESC:Events for Bauman's Farm &amp; Garden
REFRESH-INTERVAL;VALUE=DURATION:PT1H
X-Robots-Tag:noindex
X-PUBLISHED-TTL:PT1H
BEGIN:VTIMEZONE
TZID:America/Phoenix
BEGIN:STANDARD
TZOFFSETFROM:-0700
TZOFFSETTO:-0700
TZNAME:MST
DTSTART:20170101T000000
END:STANDARD
END:VTIMEZONE
BEGIN:VEVENT
DTSTART;TZID=America/Phoenix:20181006T100000
DTEND;TZID=America/Phoenix:20181006T150000
DTSTAMP:20260425T041635
CREATED:20180821T232149Z
LAST-MODIFIED:20180821T232149Z
UID:10000010-1538820000-1538838000@baumanfarms.com
SUMMARY:Giant Pumpkin Weigh Off 2018
DESCRIPTION:The largest pumpkins and squash in the country have made their way to Bauman’s Harvest Festival. In fact\, during the last decade the Great Pumpkin Weigh Off has produced some national and world records! \nFor more information visit: https://baumanshf.com/pumpkin-weigh-off/
URL:https://baumanfarms.com/event/giant-pumpkin-weigh-off-2018/
ATTACH;FMTTYPE=image/jpeg:https://baumanfarms.com/wp-content/uploads/2018/08/giant-pumpkin.jpg
END:VEVENT
END:VCALENDAR