BEGIN:VCALENDAR
VERSION:2.0
PRODID:-//Bauman's Farm &amp; Garden - ECPv6.15.20//NONSGML v1.0//EN
CALSCALE:GREGORIAN
METHOD:PUBLISH
X-ORIGINAL-URL:https://baumanfarms.com
X-WR-CALDESC:Events for Bauman's Farm &amp; Garden
REFRESH-INTERVAL;VALUE=DURATION:PT1H
X-Robots-Tag:noindex
X-PUBLISHED-TTL:PT1H
BEGIN:VTIMEZONE
TZID:America/Phoenix
BEGIN:STANDARD
TZOFFSETFROM:-0700
TZOFFSETTO:-0700
TZNAME:MST
DTSTART:20170101T000000
END:STANDARD
END:VTIMEZONE
BEGIN:VEVENT
DTSTART;TZID=America/Phoenix:20180429T130000
DTEND;TZID=America/Phoenix:20180429T150000
DTSTAMP:20260425T135324
CREATED:20180417T031521Z
LAST-MODIFIED:20180419T172041Z
UID:10000023-1525006800-1525014000@baumanfarms.com
SUMMARY:Tomato and Pepper Workshop
DESCRIPTION:A great way to learn which tomato is perfect for your garden and taste buds… Do I want a tomato to snack on\, or make into sauce or salsa? Care and great tips for growing both in your garden…
URL:https://baumanfarms.com/event/tomato-pepper-workshop/
CATEGORIES:Free Classes
ATTACH;FMTTYPE=image/png:https://baumanfarms.com/wp-content/uploads/2018/04/tomato-workshop.png
ORGANIZER;CN="Brian Bauman":MAILTO:brian@baumanfarms.com
END:VEVENT
END:VCALENDAR