BEGIN:VCALENDAR
VERSION:2.0
PRODID:-//Bauman's Farm &amp; Garden - ECPv6.15.20//NONSGML v1.0//EN
CALSCALE:GREGORIAN
METHOD:PUBLISH
X-WR-CALNAME:Bauman's Farm &amp; Garden
X-ORIGINAL-URL:https://baumanfarms.com
X-WR-CALDESC:Events for Bauman's Farm &amp; Garden
REFRESH-INTERVAL;VALUE=DURATION:PT1H
X-Robots-Tag:noindex
X-PUBLISHED-TTL:PT1H
BEGIN:VTIMEZONE
TZID:America/Phoenix
BEGIN:STANDARD
TZOFFSETFROM:-0700
TZOFFSETTO:-0700
TZNAME:MST
DTSTART:20170101T000000
END:STANDARD
END:VTIMEZONE
BEGIN:VEVENT
DTSTART;TZID=America/Phoenix:20180506T130000
DTEND;TZID=America/Phoenix:20180506T150000
DTSTAMP:20260425T151957
CREATED:20180417T032627Z
LAST-MODIFIED:20180419T172906Z
UID:10000018-1525611600-1525618800@baumanfarms.com
SUMMARY:Hydrangea Workshop
DESCRIPTION:A Bauman favorite and a favorite gift for Mother’s Day is the Endless Summer Hydrangea. It just so happens that Bailey’s Nursery\, the Founders of this amazing series of Hydrangeas will be stopping by Bauman’s. Bring your mom or your neighbor or just a happy plant lover to this wonderful workshop.
URL:https://baumanfarms.com/event/hydrangea-workshop/
CATEGORIES:Free Classes
ATTACH;FMTTYPE=image/png:https://baumanfarms.com/wp-content/uploads/2018/04/hydrangea-workshop.png
ORGANIZER;CN="Brian Bauman":MAILTO:brian@baumanfarms.com
END:VEVENT
END:VCALENDAR