BEGIN:VCALENDAR
VERSION:2.0
PRODID:-//Bauman's Farm &amp; Garden - ECPv6.15.20//NONSGML v1.0//EN
CALSCALE:GREGORIAN
METHOD:PUBLISH
X-ORIGINAL-URL:https://baumanfarms.com
X-WR-CALDESC:Events for Bauman's Farm &amp; Garden
REFRESH-INTERVAL;VALUE=DURATION:PT1H
X-Robots-Tag:noindex
X-PUBLISHED-TTL:PT1H
BEGIN:VTIMEZONE
TZID:America/Phoenix
BEGIN:STANDARD
TZOFFSETFROM:-0700
TZOFFSETTO:-0700
TZNAME:MST
DTSTART:20170101T000000
END:STANDARD
END:VTIMEZONE
BEGIN:VEVENT
DTSTART;TZID=America/Phoenix:20180520T130000
DTEND;TZID=America/Phoenix:20180520T150000
DTSTAMP:20260425T180335
CREATED:20180417T034314Z
LAST-MODIFIED:20180417T034314Z
UID:10000001-1526821200-1526828400@baumanfarms.com
SUMMARY:Container Workshop
DESCRIPTION:Explore your creativity through container planting led by our own Brian Bauman. Includes a container\, potting soil\, and a select number of plants.
URL:https://baumanfarms.com/event/container-workshop/
CATEGORIES:Workshops
ATTACH;FMTTYPE=image/png:https://baumanfarms.com/wp-content/uploads/2018/04/container-workshop.png
ORGANIZER;CN="Brian Bauman":MAILTO:brian@baumanfarms.com
END:VEVENT
END:VCALENDAR