BEGIN:VCALENDAR
VERSION:2.0
PRODID:-//Bauman's Farm &amp; Garden - ECPv6.15.20//NONSGML v1.0//EN
CALSCALE:GREGORIAN
METHOD:PUBLISH
X-ORIGINAL-URL:https://baumanfarms.com
X-WR-CALDESC:Events for Bauman's Farm &amp; Garden
REFRESH-INTERVAL;VALUE=DURATION:PT1H
X-Robots-Tag:noindex
X-PUBLISHED-TTL:PT1H
BEGIN:VTIMEZONE
TZID:America/Phoenix
BEGIN:STANDARD
TZOFFSETFROM:-0700
TZOFFSETTO:-0700
TZNAME:MST
DTSTART:20170101T000000
END:STANDARD
END:VTIMEZONE
BEGIN:VEVENT
DTSTART;TZID=America/Phoenix:20180616T130000
DTEND;TZID=America/Phoenix:20180616T150000
DTSTAMP:20260425T180334
CREATED:20180417T044127Z
LAST-MODIFIED:20180419T173123Z
UID:10000015-1529154000-1529161200@baumanfarms.com
SUMMARY:Freezer Jam Workshop
DESCRIPTION:Just like Barb Bauman learned from her mom and her mom before her we will help you be successful in turning your fresh or frozen berries into freezer jam that your family can enjoy year round. Bring the whole family for this fun\, informative day at Bauman Farms. Where Our Family is always Growing for your Family…
URL:https://baumanfarms.com/event/freezer-jam-workshop/
CATEGORIES:Free Classes
ATTACH;FMTTYPE=image/png:https://baumanfarms.com/wp-content/uploads/2018/04/freezer-jam.png
ORGANIZER;CN="Brian Bauman":MAILTO:brian@baumanfarms.com
END:VEVENT
END:VCALENDAR