BEGIN:VCALENDAR
VERSION:2.0
PRODID:-//Bauman's Farm &amp; Garden - ECPv6.15.20//NONSGML v1.0//EN
CALSCALE:GREGORIAN
METHOD:PUBLISH
X-ORIGINAL-URL:https://baumanfarms.com
X-WR-CALDESC:Events for Bauman's Farm &amp; Garden
REFRESH-INTERVAL;VALUE=DURATION:PT1H
X-Robots-Tag:noindex
X-PUBLISHED-TTL:PT1H
BEGIN:VTIMEZONE
TZID:America/Phoenix
BEGIN:STANDARD
TZOFFSETFROM:-0700
TZOFFSETTO:-0700
TZNAME:MST
DTSTART:20180101T000000
END:STANDARD
END:VTIMEZONE
BEGIN:VEVENT
DTSTART;TZID=America/Phoenix:20190713T100000
DTEND;TZID=America/Phoenix:20190713T120000
DTSTAMP:20260420T153639
CREATED:20190702T232545Z
LAST-MODIFIED:20190702T232545Z
UID:10000044-1563012000-1563019200@baumanfarms.com
SUMMARY:Hypertufa Pot Class
DESCRIPTION:Learn how to make these cute\, trendy pots that look good on any porch or patio! \nHypertufa is an artificial stone material made up of several different aggregates and mixed with Portland cement. It is much lighter than cement but can still withstand harsh weather conditions. These pots are perfect for a sunny spot planted with succulents or on a shady tree stump with ferns. Mary\, who has been working in the nursery section of Bauman’s for 11 years\, will teach you how to: make the form\, what and how much to mix\, good techniques for shaping\, and information about the drying process. Participants will get to create their own planter to take home the next week after it dries! \nCost is $30 per person. \nPlease RSVP at (503) 792-3524
URL:https://baumanfarms.com/event/hypertufa-pot-class/
ATTACH;FMTTYPE=image/jpeg:https://baumanfarms.com/wp-content/uploads/2019/07/hypertufa-pot-class.jpg
END:VEVENT
END:VCALENDAR