BEGIN:VCALENDAR
VERSION:2.0
PRODID:-//Bauman's Farm &amp; Garden - ECPv6.15.20//NONSGML v1.0//EN
CALSCALE:GREGORIAN
METHOD:PUBLISH
X-WR-CALNAME:Bauman's Farm &amp; Garden
X-ORIGINAL-URL:https://baumanfarms.com
X-WR-CALDESC:Events for Bauman's Farm &amp; Garden
REFRESH-INTERVAL;VALUE=DURATION:PT1H
X-Robots-Tag:noindex
X-PUBLISHED-TTL:PT1H
BEGIN:VTIMEZONE
TZID:America/Phoenix
BEGIN:STANDARD
TZOFFSETFROM:-0700
TZOFFSETTO:-0700
TZNAME:MST
DTSTART:20180101T000000
END:STANDARD
END:VTIMEZONE
BEGIN:VEVENT
DTSTART;TZID=America/Phoenix:20190727T150000
DTEND;TZID=America/Phoenix:20190727T170000
DTSTAMP:20260421T084129
CREATED:20190718T185524Z
LAST-MODIFIED:20190718T185524Z
UID:10000033-1564239600-1564246800@baumanfarms.com
SUMMARY:Puff Pastry Design
DESCRIPTION:New Bakery Class \nCost: $10 \nLimit to first 15 people. Call to RSVP Today! \n 
URL:https://baumanfarms.com/event/puff-pastry-design/
ATTACH;FMTTYPE=image/jpeg:https://baumanfarms.com/wp-content/uploads/2019/07/puff-pastry.jpg
END:VEVENT
END:VCALENDAR