BEGIN:VCALENDAR
VERSION:2.0
PRODID:-//Bauman's Farm &amp; Garden - ECPv6.15.20//NONSGML v1.0//EN
CALSCALE:GREGORIAN
METHOD:PUBLISH
X-WR-CALNAME:Bauman's Farm &amp; Garden
X-ORIGINAL-URL:https://baumanfarms.com
X-WR-CALDESC:Events for Bauman's Farm &amp; Garden
REFRESH-INTERVAL;VALUE=DURATION:PT1H
X-Robots-Tag:noindex
X-PUBLISHED-TTL:PT1H
BEGIN:VTIMEZONE
TZID:America/Phoenix
BEGIN:STANDARD
TZOFFSETFROM:-0700
TZOFFSETTO:-0700
TZNAME:MST
DTSTART:20200101T000000
END:STANDARD
END:VTIMEZONE
BEGIN:VEVENT
DTSTART;TZID=America/Phoenix:20210116T100000
DTEND;TZID=America/Phoenix:20210116T110000
DTSTAMP:20260419T121003
CREATED:20210115T232209Z
LAST-MODIFIED:20210116T002555Z
UID:10000060-1610791200-1610794800@baumanfarms.com
SUMMARY:Virtual Custom Shade Hanging Basket Class
DESCRIPTION:Learn how to select plants to design your most beautiful custom basket. We plant them for you\, grow them in our greenhouses\, and then you can pick them up around May 1st. \nDOWNLOAD AGENDA – PDF \n[vc_row][vc_column width=”1/2″][vc_column_text][/vc_column_text][/vc_column][vc_column width=”1/2″][vc_column_text][/vc_column_text][/vc_column][/vc_row] \n[vc_row][vc_column width=”1/2″][vc_column_text][/vc_column_text][/vc_column][vc_column width=”1/2″][vc_column_text][/vc_column_text][/vc_column][/vc_row] \n>>> ORDER YOUR CUSTOM SHADE BASKET ONLINE
URL:https://baumanfarms.com/event/virtual-custom-shade-hanging-basket-class/
LOCATION:Online\, OR
CATEGORIES:Free Classes
ATTACH;FMTTYPE=image/jpeg:https://baumanfarms.com/wp-content/uploads/2021/01/custom-shade-baskets-header.jpg
ORGANIZER;CN="Brian Bauman":MAILTO:brian@baumanfarms.com
END:VEVENT
END:VCALENDAR