BEGIN:VCALENDAR
VERSION:2.0
PRODID:-//Bauman's Farm &amp; Garden - ECPv6.15.20//NONSGML v1.0//EN
CALSCALE:GREGORIAN
METHOD:PUBLISH
X-ORIGINAL-URL:https://baumanfarms.com
X-WR-CALDESC:Events for Bauman's Farm &amp; Garden
REFRESH-INTERVAL;VALUE=DURATION:PT1H
X-Robots-Tag:noindex
X-PUBLISHED-TTL:PT1H
BEGIN:VTIMEZONE
TZID:America/Phoenix
BEGIN:STANDARD
TZOFFSETFROM:-0700
TZOFFSETTO:-0700
TZNAME:MST
DTSTART:20220101T000000
END:STANDARD
END:VTIMEZONE
BEGIN:VEVENT
DTSTART;TZID=America/Phoenix:20250904T170000
DTEND;TZID=America/Phoenix:20250904T200000
DTSTAMP:20260424T071822
CREATED:20250724T004304Z
LAST-MODIFIED:20250903T203854Z
UID:10000294-1757005200-1757016000@baumanfarms.com
SUMMARY:Chicks Night Out 2025
DESCRIPTION:Chicks Night Out is back! \nHave fun after hours with your girlfriends shopping sales\, eating yummy food\, winning prizes\, getting massages\, tasting delicious desserts\, sitting in on some great classes\, and enjoying local entertainment. \nFree to attend. Tickets are NOT required\, but please RSVP below so we know how many people to expect. \nMassive Sales \n\n50-70% off Pottery\n50% off Fountains\n50% off Conifers\, Ornamental/Fruit Trees\, Hydrangeas\, and Roses\nOverstock & Clearance Sale\n20lbs of Apples for $20\n\nDinner (available for purchase upon arrival) \nFun activities and giveaways to include:\n• Prize Wheel in Nursery yard (one spin/person) \n\nLive music by Tuesday String Band\nMore coming soon!\n\nSampling & Vendors in Gourmet Foods 5:00 – 7:30pm \nFeaturing our Diamond Bake-Off: Custard\, Cream\, & Meringue Pies\n• Bake your way to a free diamond necklace in this year’s Bake-Off: Custard\, Cream\, & Meringue Pies\n• To sign up and review the guidelines\, visit https://baumanfarms.com/bake-off/ \nNEW THIS YEAR: Bauman’s Backyard Bouquets\n• Design a custom flower bouquet and bring it to Chicks Night Out.\n• To sign up and review guidelines\, visit https://baumanfarms.com/bouquets/ \n 
URL:https://baumanfarms.com/event/chicks-night-out-2025/
LOCATION:Bauman’s Farm and Garden\, 12989 Howell Prairie Rd Northeast\, Gervais\, OR\, 97026\, United States
ATTACH;FMTTYPE=image/jpeg:https://baumanfarms.com/wp-content/uploads/2025/07/chicks-night-out-2025.jpg
ORGANIZER;CN="Office":MAILTO:office@baumanfarms.com
END:VEVENT
BEGIN:VEVENT
DTSTART;TZID=America/Phoenix:20240905T170000
DTEND;TZID=America/Phoenix:20240905T200000
DTSTAMP:20260424T071822
CREATED:20240817T174918Z
LAST-MODIFIED:20240830T010554Z
UID:10000271-1725555600-1725566400@baumanfarms.com
SUMMARY:Chicks Night Out 2024
DESCRIPTION:Looking for a fun and exciting night out with you and your girlfriends?\nCome join us for “Chicks Night Out” at Bauman’s. RSVP Today!\n\nMassive Sales\n\nReceive a coupon for 50% OFF a (1) live plant of your choice!\nPottery 50-70% OFF\n20lb box of apples for $20\nConifers 40% off\n\nDinner available for purchase ($15)\nChicken or beef taco salad + dessert + a drink \nClasses\n\n6:00 Autumn’s Advantage: Nurturing Your Soil Naturally with Fall Fertilizing (Espoma)\n6:30 Year-Round Cut Flower Garden\n7:00 Flavorette Honey-Apricot Rose: The Edible Rose from Proven Winners\n\nActivities\n\nSip & Paint Pottery: Order a drink then paint a planter ($15\, pay upon arrival)\nPrize Wheel in Nursery yard (one spin/person)\nBuild-a-Basket (choose from premade gift baskets or build your own)\nTuesday String Band will be our live music entertainment for the evening.\n\nSampling & Vendors in Gourmet Foods 5:00-7:30\n\nBauman’s Sampling Bar\nRose City Pepperheads\nSuDan Farm\nCorylus Farms\nRomero’s Salsa\n\n\nBauman’s Diamond Bake Off Competition\n\nWant to bake your way to a FREE diamond necklace??? This years “Diamond Bake Off” will be an Apple Dessert.  The contest will be held Thursday\, September 5th\, 2024 at our Chicks Night Out. \nMake sure you RSVP below for Chicks Night Out! \nCLICK HERE TO SIGN UP & PARTICIPATE IN THE BAKE-OFF! \n  \n\n 
URL:https://baumanfarms.com/event/chicks-night-out-2024/
LOCATION:Bauman’s Farm and Garden\, 12989 Howell Prairie Rd Northeast\, Gervais\, OR\, 97026\, United States
ATTACH;FMTTYPE=image/jpeg:https://baumanfarms.com/wp-content/uploads/2023/07/Chicks-Night-Out-23.jpg
ORGANIZER;CN="Office":MAILTO:office@baumanfarms.com
END:VEVENT
BEGIN:VEVENT
DTSTART;TZID=America/Phoenix:20230907T170000
DTEND;TZID=America/Phoenix:20230907T200000
DTSTAMP:20260424T071822
CREATED:20230728T000831Z
LAST-MODIFIED:20230810T043007Z
UID:10000168-1694106000-1694116800@baumanfarms.com
SUMMARY:Chicks Night Out 2023
DESCRIPTION:Looking for a fun and exciting night out with you and your girlfriends?\nCome join us for “Chicks Night Out” at Bauman’s. RSVP Today!\n\nMASSIVE SALES!!\n\nPottery – 50-70% off\nConifers – 50% off\nSelect Garden Art – 50% Off\n\nFun activities and give-a-ways to include:\n\nPrize Wheel\nFood Available for Purchase\nDoor Prizes\nClasses\n\n\nBauman’s Diamond Bake Off Competition\n\nWant to bake your way to a FREE diamond necklace??? This years “Diamond Bake Off” will be a Chocolate Dessert.  The contest will be held Thursday\, September 7th\, 2023 at our Chicks Night Out. \nMake sure you RSVP below for Chicks Night Out! \nCLICK HERE TO SIGN UP & PARTICIPATE IN THE BAKE-OFF! \n  \n\n 
URL:https://baumanfarms.com/event/chicks-night-out-2023/
LOCATION:Bauman’s Farm and Garden\, 12989 Howell Prairie Rd Northeast\, Gervais\, OR\, 97026\, United States
ATTACH;FMTTYPE=image/jpeg:https://baumanfarms.com/wp-content/uploads/2023/07/Chicks-Night-Out-23.jpg
ORGANIZER;CN="Office":MAILTO:office@baumanfarms.com
END:VEVENT
END:VCALENDAR